BEGIN:VCALENDAR
VERSION:2.0
PRODID:GlueUp
CALSCALE:GREGORIAN
BEGIN:VTIMEZONE
TZID:UTC
BEGIN:STANDARD
DTSTART:19700101T000000
TZOFFSETFROM:+0000
TZOFFSETTO:+0000
TZNAME:UTC
END:STANDARD
END:VTIMEZONE
BEGIN:VEVENT
TZ:+00
ORGANIZER;CN=Lucinda Liu:MAILTO:lliu@amchamchina.org
UID:43727-1776696258@https://amcham.glueup.cn
DTSTAMP:20260420T144418Z
DTSTART:20240511T010000Z
DTEND:20240511T090000Z
SUMMARY:[In-Person, CN] Green Methanol and Advanced Fuels Sub-Forum
DESCRIPTION:AmCham China发布活动[In-Person, CN] Green Methanol and Advanced Fuels Sub-Forum\n\n2024年05月11日（上午 9:00 - 下午 5:00）(GMT+8)\n\n更多信息，访问https://amcham.glueup.cn/my/events/43727
LOCATION:国测国际会议会展中心 - 中国北京北京市顺义区临空经济核心区汇海南路6好苑20号楼
BEGIN:VALARM
TRIGGER:-PT48H
REPEAT:4
DURATION:PT30M
ACTION:DISPLAY
END:VALARM
END:VEVENT
END:VCALENDAR