BEGIN:VCALENDAR
VERSION:2.0
PRODID:GlueUp
CALSCALE:GREGORIAN
BEGIN:VTIMEZONE
TZID:UTC
BEGIN:STANDARD
DTSTART:19700101T000000
TZOFFSETFROM:+0000
TZOFFSETTO:+0000
TZNAME:UTC
END:STANDARD
END:VTIMEZONE
BEGIN:VEVENT
TZ:+00
ORGANIZER;CN=Lucinda Liu:MAILTO:lliu@amchamchina.org
UID:43127-1776702650@https://amcham.glueup.cn
DTSTAMP:20260420T163050Z
DTSTART:20240325T053000Z
DTEND:20240325T090000Z
SUMMARY:In-Person (CN/EN) | Green Power Green Certificate Mutual Acceptance Seminar
DESCRIPTION:In-Person (CN/EN) | Green Power Green Certificate Mutual Acceptance Seminar by AmCham China\n\nMar 25, 2024 (1:30 PM - 5:00 PM)(GMT+8)\n\nFor more information, click here: https://amcham.glueup.cn/my/events/43127
LOCATION:北京皇家格兰云天大酒店 - China
BEGIN:VALARM
TRIGGER:-PT48H
REPEAT:4
DURATION:PT30M
ACTION:DISPLAY
END:VALARM
END:VEVENT
END:VCALENDAR