BEGIN:VCALENDAR
VERSION:2.0
PRODID:GlueUp
CALSCALE:GREGORIAN
BEGIN:VTIMEZONE
TZID:UTC
BEGIN:STANDARD
DTSTART:19700101T000000
TZOFFSETFROM:+0000
TZOFFSETTO:+0000
TZNAME:UTC
END:STANDARD
END:VTIMEZONE
BEGIN:VEVENT
TZ:+00
ORGANIZER;CN=Xi Wang:MAILTO:xwang@amchamchina.org
UID:42345-1776722002@https://amcham.glueup.cn
DTSTAMP:20260420T215322Z
DTSTART:20231208T023000Z
DTEND:20231208T060000Z
SUMMARY:In-Person (CN&EN) | AmCham China Healthcare Committee Annual Reception
DESCRIPTION:In-Person (CN&EN) | AmCham China Healthcare Committee Annual Reception by AmCham China\n\nDec 8, 2023 (10:30 AM - 2:00 PM)(GMT+8)\n\nFor more information, click here: https://amcham.glueup.cn/my/events/42345
LOCATION:北京兴基铂尔曼饭店 - 北京市大兴区经济技术开发区荣华南路12号
BEGIN:VALARM
TRIGGER:-PT48H
REPEAT:4
DURATION:PT30M
ACTION:DISPLAY
END:VALARM
END:VEVENT
END:VCALENDAR