BEGIN:VCALENDAR
VERSION:2.0
PRODID:GlueUp
CALSCALE:GREGORIAN
BEGIN:VTIMEZONE
TZID:UTC
BEGIN:STANDARD
DTSTART:19700101T000000
TZOFFSETFROM:+0000
TZOFFSETTO:+0000
TZNAME:UTC
END:STANDARD
END:VTIMEZONE
BEGIN:VEVENT
TZ:+00
ORGANIZER;CN=Melody Wen:MAILTO:mwen@amchamchina.org
UID:42261-1776721982@https://amcham.glueup.cn
DTSTAMP:20260420T215302Z
DTSTART:20231208T060000Z
DTEND:20231208T090000Z
SUMMARY:In-Person (CN) | Designing Your Energy in Work and Life - Workshop & Mixer
DESCRIPTION:AmCham China发布活动In-Person (CN) | Designing Your Energy in Work and Life - Workshop & Mixer\n\n2023年12月08日（下午 2:00 - 下午 5:00）(GMT+8)\n\n更多信息，访问https://amcham.glueup.cn/my/events/42261
LOCATION:AmCham China Office - 中国北京市朝阳区工体北路甲2号， 盈科中心4号门3层。
BEGIN:VALARM
TRIGGER:-PT48H
REPEAT:4
DURATION:PT30M
ACTION:DISPLAY
END:VALARM
END:VEVENT
END:VCALENDAR