BEGIN:VCALENDAR
VERSION:2.0
PRODID:GlueUp
CALSCALE:GREGORIAN
BEGIN:VTIMEZONE
TZID:UTC
BEGIN:STANDARD
DTSTART:19700101T000000
TZOFFSETFROM:+0000
TZOFFSETTO:+0000
TZNAME:UTC
END:STANDARD
END:VTIMEZONE
BEGIN:VEVENT
TZ:+00
ORGANIZER;CN=Alex Yao:MAILTO:ayao@amchamchina.org
UID:43148-1776702653@https://amcham.glueup.cn
DTSTAMP:20260420T163053Z
DTSTART:20240312T063000Z
DTEND:20240312T083000Z
SUMMARY:In-Person (CN) | CGAC 2024 Strategic Planning Meeting
DESCRIPTION:In-Person (CN) | CGAC 2024 Strategic Planning Meeting by AmCham China\n\nMar 12, 2024 (2:30 PM - 4:30 PM)(GMT+8)\n\nFor more information, click here: https://amcham.glueup.cn/my/events/43148
LOCATION:Conrad Beijing 北京康莱德酒店 - 29 North Dongsanhuan Road Chaoyang Dist. - Beijing - 100020 - China - 北京市朝阳区东三环北路29号 China
BEGIN:VALARM
TRIGGER:-PT48H
REPEAT:4
DURATION:PT30M
ACTION:DISPLAY
END:VALARM
END:VEVENT
END:VCALENDAR