BEGIN:VCALENDAR
VERSION:2.0
PRODID:GlueUp
CALSCALE:GREGORIAN
BEGIN:VTIMEZONE
TZID:UTC
BEGIN:STANDARD
DTSTART:19700101T000000
TZOFFSETFROM:+0000
TZOFFSETTO:+0000
TZNAME:UTC
END:STANDARD
END:VTIMEZONE
BEGIN:VEVENT
TZ:+00
ORGANIZER;CN=Mark Dreyer:MAILTO:mdreyer@amchamchina.org
UID:45183-1776661308@https://amcham.glueup.cn
DTSTAMP:20260420T050148Z
DTSTART:20240920T070000Z
DTEND:20240920T080000Z
SUMMARY:[Hybrid, EN] Debrief on CIWG Meetings with US Embassy's Everett Wakai
DESCRIPTION:[Hybrid, EN] Debrief on CIWG Meetings with US Embassy's Everett Wakai by AmCham China\n\nSep 20, 2024 (3:00 PM - 4:00 PM)(GMT+8)\n\nFor more information, click here: https://amcham.glueup.cn/my/events/45183
LOCATION:WeWork fifth floor (upstairs from AmCham China) - Gate No. 528 - Building C - 2A Worker Stadium North Road Pacific Century Place - 工人体育场北路甲2号盈科中心C座南侧528号门WeWork Beijing - Chaoyang District - China
BEGIN:VALARM
TRIGGER:-PT48H
REPEAT:4
DURATION:PT30M
ACTION:DISPLAY
END:VALARM
END:VEVENT
END:VCALENDAR