BEGIN:VCALENDAR
VERSION:2.0
PRODID:GlueUp
CALSCALE:GREGORIAN
BEGIN:VTIMEZONE
TZID:UTC
BEGIN:STANDARD
DTSTART:19700101T000000
TZOFFSETFROM:+0000
TZOFFSETTO:+0000
TZNAME:UTC
END:STANDARD
END:VTIMEZONE
BEGIN:VEVENT
TZ:+00
ORGANIZER;CN=Yuning Xu:MAILTO:yxu@amchamchina.org
UID:45921-1776640759@https://amcham.glueup.cn
DTSTAMP:20260419T231919Z
DTSTART:20241220T060000Z
DTEND:20241220T080000Z
SUMMARY:[Hybrid, EN&CN] 2025 Social Impact Initiative Kick-Off Session
DESCRIPTION:[Hybrid, EN&CN] 2025 Social Impact Initiative Kick-Off Session by AmCham China\n\nDec 20, 2024 (2:00 PM - 4:00 PM)(GMT+8)\n\nFor more information, click here: https://amcham.glueup.cn/my/events/45921
LOCATION:Washington Room, AmCham China Office, Pacific Century Place - Pacific Century Place - - 2A Workers' Stadium North Road - - Chaoyang District - Beijing - 100027 北京市朝阳区工体北路甲2号，盈科中心3层。 邮编100027 Beijing - China
BEGIN:VALARM
TRIGGER:-PT48H
REPEAT:4
DURATION:PT30M
ACTION:DISPLAY
END:VALARM
END:VEVENT
END:VCALENDAR