BEGIN:VCALENDAR
VERSION:2.0
PRODID:GlueUp
CALSCALE:GREGORIAN
BEGIN:VTIMEZONE
TZID:UTC
BEGIN:STANDARD
DTSTART:19700101T000000
TZOFFSETFROM:+0000
TZOFFSETTO:+0000
TZNAME:UTC
END:STANDARD
END:VTIMEZONE
BEGIN:VEVENT
TZ:+00
ORGANIZER;CN=Xi Wang:MAILTO:xwang@amchamchina.org
UID:42693-1776715201@https://amcham.glueup.cn
DTSTAMP:20260420T200001Z
DTSTART:20240126T070000Z
DTEND:20240126T083000Z
SUMMARY:Hybrid EN&CN | 2024 AmCham China Healthcare Industry Kick-off Meeting
DESCRIPTION:Hybrid EN&CN | 2024 AmCham China Healthcare Industry Kick-off Meeting by AmCham China\n\nJan 26, 2024 (3:00 PM - 4:30 PM)(GMT+8)\n\nFor more information, click here: https://amcham.glueup.cn/my/events/42693
LOCATION:WeWork 5C - 5F - Gate 5 - Pacific Century Place - 2A Workers' Stadium North Road - Beijing - PRC - 100027 Beijing - China
BEGIN:VALARM
TRIGGER:-PT48H
REPEAT:4
DURATION:PT30M
ACTION:DISPLAY
END:VALARM
END:VEVENT
END:VCALENDAR