BEGIN:VCALENDAR
VERSION:2.0
PRODID:GlueUp
CALSCALE:GREGORIAN
BEGIN:VTIMEZONE
TZID:UTC
BEGIN:STANDARD
DTSTART:19700101T000000
TZOFFSETFROM:+0000
TZOFFSETTO:+0000
TZNAME:UTC
END:STANDARD
END:VTIMEZONE
BEGIN:VEVENT
TZ:+00
ORGANIZER;CN=Yin Yu:MAILTO:yyu@amchamchina.org
UID:43353-1776696250@https://amcham.glueup.cn
DTSTAMP:20260420T144410Z
DTSTART:20240410T070000Z
DTEND:20240410T090000Z
SUMMARY:Hybrid (CN) | Women Professionals Energy Management
DESCRIPTION:Hybrid (CN) | Women Professionals Energy Management by AmCham China\n\nApr 10, 2024 (3:00 PM - 5:00 PM)(GMT+8)\n\nFor more information, click here: https://amcham.glueup.cn/my/events/43353
LOCATION:WeWork, Pacific Century Place - Floor 5 - Gate 5 - Pacific Century Place - - 2A Workers' Stadium North Road - - Chaoyang District - Beijing - 100027 北京市朝阳区工体北路甲2号，盈科中心5号门5层。 邮编100027 Beijing - Chaoyang District - China
BEGIN:VALARM
TRIGGER:-PT48H
REPEAT:4
DURATION:PT30M
ACTION:DISPLAY
END:VALARM
END:VEVENT
END:VCALENDAR