BEGIN:VCALENDAR
VERSION:2.0
PRODID:GlueUp
CALSCALE:GREGORIAN
BEGIN:VTIMEZONE
TZID:UTC
BEGIN:STANDARD
DTSTART:19700101T000000
TZOFFSETFROM:+0000
TZOFFSETTO:+0000
TZNAME:UTC
END:STANDARD
END:VTIMEZONE
BEGIN:VEVENT
TZ:+00
ORGANIZER;CN=Ada Yang:MAILTO:ayang@amchamchina.org
UID:42724-1776715201@https://amcham.glueup.cn
DTSTAMP:20260420T200001Z
DTSTART:20240126T010000Z
DTEND:20240126T040000Z
SUMMARY:Hybrid CN | The Legal Impact of the Landmark Case  on AI-Generated Image
DESCRIPTION:Hybrid CN | The Legal Impact of the Landmark Case  on AI-Generated Image by AmCham China\n\nJan 26, 2024 (9:00 AM - 12:00 PM)(GMT+8)\n\nFor more information, click here: https://amcham.glueup.cn/my/events/42724
LOCATION:WeWork, Pacific Century Place - Floor 5 - Gate 5 - Pacific Century Place - - 2A Workers' Stadium North Road - - Chaoyang District - Beijing - 100027 北京市朝阳区工体北路甲2号，盈科中心5号门5层。 邮编100027 Beijing - Chaoyang District - China
BEGIN:VALARM
TRIGGER:-PT48H
REPEAT:4
DURATION:PT30M
ACTION:DISPLAY
END:VALARM
END:VEVENT
END:VCALENDAR