BEGIN:VCALENDAR
VERSION:2.0
PRODID:GlueUp
CALSCALE:GREGORIAN
BEGIN:VTIMEZONE
TZID:UTC
BEGIN:STANDARD
DTSTART:19700101T000000
TZOFFSETFROM:+0000
TZOFFSETTO:+0000
TZNAME:UTC
END:STANDARD
END:VTIMEZONE
BEGIN:VEVENT
TZ:+00
ORGANIZER;CN=AmCham China:MAILTO:amcham@amchamchina.org
UID:42922-1776708680@https://amcham.glueup.cn
DTSTAMP:20260420T181120Z
DTSTART:20240222T060000Z
DTEND:20240222T073000Z
SUMMARY:Hybrid | 2024 Policy+ Program Kickoff Meeting
DESCRIPTION:Hybrid | 2024 Policy+ Program Kickoff Meeting by AmCham China\n\nFeb 22, 2024 (2:00 PM - 3:30 PM)(GMT+8)\n\nFor more information, click here: https://amcham.glueup.cn/my/events/42922
LOCATION:AmCham China - 3F - Washington Room - East Gate 1 - Pacific Century Place - 2A Workers' Stadium North Road - Beijing - PRC - 100027 -  - 北京市朝阳区工体北路甲2号盈科中心东一门3层Washington Room，100027 Beijing - Chaoyang District - China
BEGIN:VALARM
TRIGGER:-PT48H
REPEAT:4
DURATION:PT30M
ACTION:DISPLAY
END:VALARM
END:VEVENT
END:VCALENDAR