BEGIN:VCALENDAR
VERSION:2.0
PRODID:GlueUp
CALSCALE:GREGORIAN
BEGIN:VTIMEZONE
TZID:UTC
BEGIN:STANDARD
DTSTART:19700101T000000
TZOFFSETFROM:+0000
TZOFFSETTO:+0000
TZNAME:UTC
END:STANDARD
END:VTIMEZONE
BEGIN:VEVENT
TZ:+00
ORGANIZER;CN=Xi Wang:MAILTO:xwang@amchamchina.org
UID:43968-1776684355@https://amcham.glueup.cn
DTSTAMP:20260420T112555Z
DTSTART:20240617T010000Z
DTEND:20240618T090000Z
SUMMARY:Healthcare Industry Group Delegation Visit to Jiangxi 2024
DESCRIPTION:Healthcare Industry Group Delegation Visit to Jiangxi 2024 by AmCham China\n\nJun 17 & 18, 2024(GMT+8)\n\nFor more information, click here: https://amcham.glueup.cn/my/events/43968
LOCATION:Shangri-La Hotel, Nanchang - 南昌市 - 江西省 - China
BEGIN:VALARM
TRIGGER:-PT48H
REPEAT:4
DURATION:PT30M
ACTION:DISPLAY
END:VALARM
END:VEVENT
END:VCALENDAR