BEGIN:VCALENDAR
VERSION:2.0
PRODID:GlueUp
CALSCALE:GREGORIAN
BEGIN:VTIMEZONE
TZID:UTC
BEGIN:STANDARD
DTSTART:19700101T000000
TZOFFSETFROM:+0000
TZOFFSETTO:+0000
TZNAME:UTC
END:STANDARD
END:VTIMEZONE
BEGIN:VEVENT
TZ:+00
ORGANIZER;CN=Xi Wang:MAILTO:xwang@amchamchina.org
UID:44405-1776678596@https://amcham.glueup.cn
DTSTAMP:20260420T094956Z
DTSTART:20240716T230000Z
DTEND:20240719T090000Z
SUMMARY:Healthcare Industry Group Delegation Visit to Fujian 2024
DESCRIPTION:Healthcare Industry Group Delegation Visit to Fujian 2024 by AmCham China\n\nJul 17 - 19, 2024(GMT+8)\n\nFor more information, click here: https://amcham.glueup.cn/my/events/44405
LOCATION:Fuzhou Marriott Hotel Riverside - Fuzhou - 福建省 - China
BEGIN:VALARM
TRIGGER:-PT48H
REPEAT:4
DURATION:PT30M
ACTION:DISPLAY
END:VALARM
END:VEVENT
END:VCALENDAR