BEGIN:VCALENDAR
VERSION:2.0
PRODID:GlueUp
CALSCALE:GREGORIAN
BEGIN:VTIMEZONE
TZID:UTC
BEGIN:STANDARD
DTSTART:19700101T000000
TZOFFSETFROM:+0000
TZOFFSETTO:+0000
TZNAME:UTC
END:STANDARD
END:VTIMEZONE
BEGIN:VEVENT
TZ:+00
ORGANIZER;CN=Xi Wang:MAILTO:xwang@amchamchina.org
UID:40772-1776753840@https://amcham.glueup.cn
DTSTAMP:20260421T064400Z
DTSTART:20230709T160001Z
DTEND:20230710T160001Z
SUMMARY:Healthcare Industry Group Delegation Visit to Anhui
DESCRIPTION:Healthcare Industry Group Delegation Visit to Anhui by AmCham China\n\nJul 10 & 11, 2023(GMT+8)\n\nFor more information, click here: https://amcham.glueup.cn/my/events/40772
LOCATION:安徽省 - Hefei - China
BEGIN:VALARM
TRIGGER:-PT48H
REPEAT:4
DURATION:PT30M
ACTION:DISPLAY
END:VALARM
END:VEVENT
END:VCALENDAR