BEGIN:VCALENDAR
VERSION:2.0
PRODID:GlueUp
CALSCALE:GREGORIAN
BEGIN:VTIMEZONE
TZID:UTC
BEGIN:STANDARD
DTSTART:19700101T000000
TZOFFSETFROM:+0000
TZOFFSETTO:+0000
TZNAME:UTC
END:STANDARD
END:VTIMEZONE
BEGIN:VEVENT
TZ:+00
ORGANIZER;CN=Chloe Ma:MAILTO:cma@amchamchina.org
UID:21744-1776942332@https://amcham.glueup.cn
DTSTAMP:20260423T110532Z
DTSTART:20190520T010000Z
DTEND:20190522T080000Z
SUMMARY:Hainan Business and Investment Outreach (B.I.O.) Trip
DESCRIPTION:Hainan Business and Investment Outreach (B.I.O.) Trip by AmCham China\n\nMay 20 - 22, 2019(GMT+8)\n\nFor more information, click here: https://amcham.glueup.cn/my/events/21744
LOCATION:Hainan - Haikou & Qionghai - Hainan - China
BEGIN:VALARM
TRIGGER:-PT48H
REPEAT:4
DURATION:PT30M
ACTION:DISPLAY
END:VALARM
END:VEVENT
END:VCALENDAR