BEGIN:VCALENDAR
VERSION:2.0
PRODID:GlueUp
CALSCALE:GREGORIAN
BEGIN:VTIMEZONE
TZID:UTC
BEGIN:STANDARD
DTSTART:19700101T000000
TZOFFSETFROM:+0000
TZOFFSETTO:+0000
TZNAME:UTC
END:STANDARD
END:VTIMEZONE
BEGIN:VEVENT
TZ:+00
ORGANIZER;CN=Lucinda Liu:MAILTO:lliu@amchamchina.org
UID:44717-1776661329@https://amcham.glueup.cn
DTSTAMP:20260420T050209Z
DTSTART:20240909T010000Z
DTEND:20240910T090000Z
SUMMARY:[Fujian, CN]  Fujian Energy Business Outreach Trip
DESCRIPTION:AmCham China发布活动[Fujian, CN]  Fujian Energy Business Outreach Trip\n\n2024年09月09日，2024年09月10日(GMT+8)\n\n更多信息，访问https://amcham.glueup.cn/my/events/44717
LOCATION: - 中国
BEGIN:VALARM
TRIGGER:-PT48H
REPEAT:4
DURATION:PT30M
ACTION:DISPLAY
END:VALARM
END:VEVENT
END:VCALENDAR