BEGIN:VCALENDAR
VERSION:2.0
PRODID:GlueUp
CALSCALE:GREGORIAN
BEGIN:VTIMEZONE
TZID:UTC
BEGIN:STANDARD
DTSTART:19700101T000000
TZOFFSETFROM:+0000
TZOFFSETTO:+0000
TZNAME:UTC
END:STANDARD
END:VTIMEZONE
BEGIN:VEVENT
TZ:+00
ORGANIZER;CN=Edward Xiao:MAILTO:exiao@amchamchina.org
UID:44191-1776684241@https://amcham.glueup.cn
DTSTAMP:20260420T112401Z
DTSTART:20240627T010000Z
DTEND:20240627T020000Z
SUMMARY:Exclusive Member Briefing: Virtual Q&A with Speaker Paul Ryan
DESCRIPTION:Exclusive Member Briefing: Virtual Q&A with Speaker Paul Ryan by AmCham China\n\nJun 27, 2024 (9:00 AM - 10:00 AM)(GMT+8)\n\nFor more information, click here: https://amcham.glueup.cn/my/events/44191
LOCATION:Online Event
BEGIN:VALARM
TRIGGER:-PT48H
REPEAT:4
DURATION:PT30M
ACTION:DISPLAY
END:VALARM
END:VEVENT
END:VCALENDAR