BEGIN:VCALENDAR
VERSION:2.0
PRODID:GlueUp
CALSCALE:GREGORIAN
BEGIN:VTIMEZONE
TZID:UTC
BEGIN:STANDARD
DTSTART:19700101T000000
TZOFFSETFROM:+0000
TZOFFSETTO:+0000
TZNAME:UTC
END:STANDARD
END:VTIMEZONE
BEGIN:VEVENT
TZ:+00
ORGANIZER;CN=Lucinda Liu:MAILTO:lliu@amchamchina.org
UID:45085-1776661170@https://amcham.glueup.cn
DTSTAMP:20260420T045930Z
DTSTART:20240922T003000Z
DTEND:20240922T033000Z
SUMMARY:Energy & Charity Run
DESCRIPTION:中国美国商会发布活动Energy & Charity Run\n\n2024年09月22日（08:30 - 11:30）(GMT+8)\n\n更多信息，访问https://amcham.glueup.cn/my/events/45085
LOCATION: - 中国
BEGIN:VALARM
TRIGGER:-PT48H
REPEAT:4
DURATION:PT30M
ACTION:DISPLAY
END:VALARM
END:VEVENT
END:VCALENDAR