BEGIN:VCALENDAR
VERSION:2.0
PRODID:GlueUp
CALSCALE:GREGORIAN
BEGIN:VTIMEZONE
TZID:UTC
BEGIN:STANDARD
DTSTART:19700101T000000
TZOFFSETFROM:+0000
TZOFFSETTO:+0000
TZNAME:UTC
END:STANDARD
END:VTIMEZONE
BEGIN:VEVENT
TZ:+00
ORGANIZER;CN=AmCham China:MAILTO:amcham@amchamchina.org
UID:14886-1776629271@https://amcham.glueup.cn
DTSTAMP:20260419T200751Z
DTSTART:20180328T060000Z
DTEND:20180328T093000Z
SUMMARY:Digital Marketing Series: Strategic and Corporate PR
DESCRIPTION:Digital Marketing Series: Strategic and Corporate PR by AmCham China\n\nMar 28, 2018 (2:00 PM - 5:30 PM)(GMT+8)\n\nFor more information, click here: https://amcham.glueup.cn/my/events/14886
LOCATION:AmCham China Conference Center - Floor 3 - Gate 4 - Pacific Century Place - - 2A Workers' Stadium North Road Beijing - Chaoyang District - China
BEGIN:VALARM
TRIGGER:-PT48H
REPEAT:4
DURATION:PT30M
ACTION:DISPLAY
END:VALARM
END:VEVENT
END:VCALENDAR