BEGIN:VCALENDAR
VERSION:2.0
PRODID:GlueUp
CALSCALE:GREGORIAN
BEGIN:VTIMEZONE
TZID:UTC
BEGIN:STANDARD
DTSTART:19700101T000000
TZOFFSETFROM:+0000
TZOFFSETTO:+0000
TZNAME:UTC
END:STANDARD
END:VTIMEZONE
BEGIN:VEVENT
TZ:+00
ORGANIZER;CN=Alice Xin:MAILTO:axin@amchamchina.org
UID:42665-1776709209@https://amcham.glueup.cn
DTSTAMP:20260420T182009Z
DTSTART:20240211T230000Z
DTEND:20240212T030000Z
SUMMARY:Dalian | Super Bowl showdown with AmCham China Northeast
DESCRIPTION:Dalian | Super Bowl showdown with AmCham China Northeast by AmCham China\n\nFeb 12, 2024 (7:00 AM - 11:00 AM)(GMT+8)\n\nFor more information, click here: https://amcham.glueup.cn/my/events/42665
LOCATION:大连布鲁克林西餐酒吧 Brooklyn Restaurant & Bar - 西岗区不老街184号 - No. 184 - Bulao Street - Xigang District 大连Dalian - 辽宁省Liaoning - China
BEGIN:VALARM
TRIGGER:-PT48H
REPEAT:4
DURATION:PT30M
ACTION:DISPLAY
END:VALARM
END:VEVENT
END:VCALENDAR