BEGIN:VCALENDAR
VERSION:2.0
PRODID:GlueUp
CALSCALE:GREGORIAN
BEGIN:VTIMEZONE
TZID:UTC
BEGIN:STANDARD
DTSTART:19700101T000000
TZOFFSETFROM:+0000
TZOFFSETTO:+0000
TZNAME:UTC
END:STANDARD
END:VTIMEZONE
BEGIN:VEVENT
TZ:+00
ORGANIZER;CN=Melody Li:MAILTO:mli@amchamchina.org
UID:45579-1776648475@https://amcham.glueup.cn
DTSTAMP:20260420T012755Z
DTSTART:20241106T070000Z
DTEND:20241106T080000Z
SUMMARY:[Dalian, Hybrid, EN] Northeast Chapter 2025 White Paper Kick-Off Meeting
DESCRIPTION:[Dalian, Hybrid, EN] Northeast Chapter 2025 White Paper Kick-Off Meeting by AmCham China\n\nNov 6, 2024 (3:00 PM - 4:00 PM)(GMT+8)\n\nFor more information, click here: https://amcham.glueup.cn/my/events/45579
LOCATION:Room 4604, 46th, ST2 Eton International Tower, No.280 Changjiang Rd. Zhongshan District - Dalian - China
BEGIN:VALARM
TRIGGER:-PT48H
REPEAT:4
DURATION:PT30M
ACTION:DISPLAY
END:VALARM
END:VEVENT
END:VCALENDAR