BEGIN:VCALENDAR
VERSION:2.0
PRODID:GlueUp
CALSCALE:GREGORIAN
BEGIN:VTIMEZONE
TZID:UTC
BEGIN:STANDARD
DTSTART:19700101T000000
TZOFFSETFROM:+0000
TZOFFSETTO:+0000
TZNAME:UTC
END:STANDARD
END:VTIMEZONE
BEGIN:VEVENT
TZ:+00
ORGANIZER;CN=Alice Xin:MAILTO:axin@amchamchina.org
UID:43760-1776689466@https://amcham.glueup.cn
DTSTAMP:20260420T125106Z
DTSTART:20240531T060000Z
DTEND:20240531T090000Z
SUMMARY:[Dalian, Hybrid, CN] How to use AI to benefit your business
DESCRIPTION:[Dalian, Hybrid, CN] How to use AI to benefit your business by AmCham China\n\nMay 31, 2024 (2:00 PM - 5:00 PM)(GMT+8)\n\nFor more information, click here: https://amcham.glueup.cn/my/events/43760
LOCATION:1st Floor, Building No.11, Ascendas IT Park, Dalian - Dalian - Liaoning Province - China
BEGIN:VALARM
TRIGGER:-PT48H
REPEAT:4
DURATION:PT30M
ACTION:DISPLAY
END:VALARM
END:VEVENT
END:VCALENDAR