BEGIN:VCALENDAR
VERSION:2.0
PRODID:GlueUp
CALSCALE:GREGORIAN
BEGIN:VTIMEZONE
TZID:UTC
BEGIN:STANDARD
DTSTART:19700101T000000
TZOFFSETFROM:+0000
TZOFFSETTO:+0000
TZNAME:UTC
END:STANDARD
END:VTIMEZONE
BEGIN:VEVENT
TZ:+00
ORGANIZER;CN=Melody Li:MAILTO:mli@amchamchina.org
UID:44315-1776678598@https://amcham.glueup.cn
DTSTAMP:20260420T094958Z
DTSTART:20240703T023000Z
DTEND:20240703T040000Z
SUMMARY:[Dalian, EN] Roundtable with US Ambassador to China Nicholas Burns
DESCRIPTION:[Dalian, EN] Roundtable with US Ambassador to China Nicholas Burns by AmCham China\n\nJul 3, 2024 (10:30 AM - 12:00 PM)(GMT+8)\n\nFor more information, click here: https://amcham.glueup.cn/my/events/44315
LOCATION:Fuli Hilton Dalian 大连富力希尔顿酒店 - No 1. Gangpu Rd. - Zhongshan District - Dalian - 辽宁省大连市中山区港浦路1号 Dalian - Liaoning - China
BEGIN:VALARM
TRIGGER:-PT48H
REPEAT:4
DURATION:PT30M
ACTION:DISPLAY
END:VALARM
END:VEVENT
END:VCALENDAR