BEGIN:VCALENDAR
VERSION:2.0
PRODID:GlueUp
CALSCALE:GREGORIAN
BEGIN:VTIMEZONE
TZID:UTC
BEGIN:STANDARD
DTSTART:19700101T000000
TZOFFSETFROM:+0000
TZOFFSETTO:+0000
TZNAME:UTC
END:STANDARD
END:VTIMEZONE
BEGIN:VEVENT
TZ:+00
ORGANIZER;CN=Jennifer Xu:MAILTO:jxu@amchamchina.org
UID:43563-1776671283@https://amcham.glueup.cn
DTSTAMP:20260420T074803Z
DTSTART:20240425T110000Z
DTEND:20240425T133000Z
SUMMARY:[Chengdu] Young Leaders Mixer: Entrepreneur Spotlight & Whisky Tasting
DESCRIPTION:[Chengdu] Young Leaders Mixer: Entrepreneur Spotlight & Whisky Tasting by AmCham China\n\nApr 25, 2024 (7:00 PM - 9:30 PM)(GMT+8)\n\nFor more information, click here: https://amcham.glueup.cn/my/events/43563
LOCATION:StillFun 萃坊 玉林店 - 108 - Yulin West Road - Wuhou District - Chengdu - 成都市武侯区玉林西路108号 Chengdu - Sichuan - China
BEGIN:VALARM
TRIGGER:-PT48H
REPEAT:4
DURATION:PT30M
ACTION:DISPLAY
END:VALARM
END:VEVENT
END:VCALENDAR