BEGIN:VCALENDAR
VERSION:2.0
PRODID:GlueUp
CALSCALE:GREGORIAN
BEGIN:VTIMEZONE
TZID:UTC
BEGIN:STANDARD
DTSTART:19700101T000000
TZOFFSETFROM:+0000
TZOFFSETTO:+0000
TZNAME:UTC
END:STANDARD
END:VTIMEZONE
BEGIN:VEVENT
TZ:+00
ORGANIZER;CN=Jennifer Xu:MAILTO:jxu@amchamchina.org
UID:42629-1776708790@https://amcham.glueup.cn
DTSTAMP:20260420T181310Z
DTSTART:20240211T230000Z
DTEND:20240212T033000Z
SUMMARY:Chengdu | NFL Super Bowl LVIII Live Watch Party
DESCRIPTION:Chengdu | NFL Super Bowl LVIII Live Watch Party by AmCham China\n\nFeb 12, 2024 (7:00 AM - 11:30 AM)(GMT+8)\n\nFor more information, click here: https://amcham.glueup.cn/my/events/42629
LOCATION:The Office Sports Bar and Grill - 48 Renmin South Road 4th Section - 22 Wuhou District - Chengdu - Sichuan - 四川省成都市武侯区人民南路四段48号附22号 Chengdu - Sichuan - China
BEGIN:VALARM
TRIGGER:-PT48H
REPEAT:4
DURATION:PT30M
ACTION:DISPLAY
END:VALARM
END:VEVENT
END:VCALENDAR