BEGIN:VCALENDAR
VERSION:2.0
PRODID:GlueUp
CALSCALE:GREGORIAN
BEGIN:VTIMEZONE
TZID:UTC
BEGIN:STANDARD
DTSTART:19700101T000000
TZOFFSETFROM:+0000
TZOFFSETTO:+0000
TZNAME:UTC
END:STANDARD
END:VTIMEZONE
BEGIN:VEVENT
TZ:+00
ORGANIZER;CN=Wei Wei:MAILTO:wwei@amchamchina.org
UID:45856-1776640819@https://amcham.glueup.cn
DTSTAMP:20260419T232019Z
DTSTART:20241203T011500Z
DTEND:20241203T020000Z
SUMMARY:[Chengdu, EN] Southwest Chapter 2025 White Paper Kickoff Meeting
DESCRIPTION:[Chengdu, EN] Southwest Chapter 2025 White Paper Kickoff Meeting by AmCham China\n\nDec 3, 2024 (9:15 AM - 10:00 AM)(GMT+8)\n\nFor more information, click here: https://amcham.glueup.cn/my/events/45856
LOCATION:Spectrum, 1/F, Fairmont Chengdu 成都费尔蒙酒店1楼食百绚 - 269 Tianfu Middle Avenue - Hi-Tech Zone - Chengdu - 成都市高新区天府大道中段269号 Chengdu - Sichuan - China
BEGIN:VALARM
TRIGGER:-PT48H
REPEAT:4
DURATION:PT30M
ACTION:DISPLAY
END:VALARM
END:VEVENT
END:VCALENDAR