BEGIN:VCALENDAR
VERSION:2.0
PRODID:GlueUp
CALSCALE:GREGORIAN
BEGIN:VTIMEZONE
TZID:UTC
BEGIN:STANDARD
DTSTART:19700101T000000
TZOFFSETFROM:+0000
TZOFFSETTO:+0000
TZNAME:UTC
END:STANDARD
END:VTIMEZONE
BEGIN:VEVENT
TZ:+00
ORGANIZER;CN=Wei Wei:MAILTO:wwei@amchamchina.org
UID:46095-1776626659@https://amcham.glueup.cn
DTSTAMP:20260419T192419Z
DTSTART:20250209T230000Z
DTEND:20250210T033000Z
SUMMARY:[Chengdu, EN&CN] NFL Super Bowl LIX Live Watch Party
DESCRIPTION:[Chengdu, EN&CN] NFL Super Bowl LIX Live Watch Party by AmCham China\n\nFeb 10, 2025 (7:00 AM - 11:30 AM)(GMT+8)\n\nFor more information, click here: https://amcham.glueup.cn/my/events/46095
LOCATION:車間 · The House of Machines Dining Bar (宝马体验中心店) - 3/F - Chengdu Baoyuanhang - Maoye Center - No. 28 Tianfu Blvd. - Wuhou District - Chengdu - 成都市武侯区天府大道北段28号茂业中心宝源行宝马体验中心3楼 Chengdu - Sichuan - China
BEGIN:VALARM
TRIGGER:-PT48H
REPEAT:4
DURATION:PT30M
ACTION:DISPLAY
END:VALARM
END:VEVENT
END:VCALENDAR