BEGIN:VCALENDAR
VERSION:2.0
PRODID:GlueUp
CALSCALE:GREGORIAN
BEGIN:VTIMEZONE
TZID:UTC
BEGIN:STANDARD
DTSTART:19700101T000000
TZOFFSETFROM:+0000
TZOFFSETTO:+0000
TZNAME:UTC
END:STANDARD
END:VTIMEZONE
BEGIN:VEVENT
TZ:+00
ORGANIZER;CN=Wei Wei:MAILTO:wwei@amchamchina.org
UID:47130-1776606005@https://amcham.glueup.cn
DTSTAMP:20260419T134005Z
DTSTART:20250515T100000Z
DTEND:20250515T133000Z
SUMMARY:[Chengdu, EN&CN] InterChamber Sports Mixer Night
DESCRIPTION:[Chengdu, EN&CN] InterChamber Sports Mixer Night by AmCham China\n\nMay 15, 2025 (6:00 PM - 9:30 PM)(GMT+8)\n\nFor more information, click here: https://amcham.glueup.cn/my/events/47130
LOCATION:6/F Terrace, Grand ParcVue Hotel Residence Chengdu 成都仁恒格蓝柏薇酒店公寓6楼户外平台 - Grand ParcVue Hotel Residence Chengdu - No. 111 - Zhihui Street - Jinjiang District - Chengdu - 成都市锦江区指挥街111号成都仁恒格蓝柏薇酒店公寓 Sichuan - China
BEGIN:VALARM
TRIGGER:-PT48H
REPEAT:4
DURATION:PT30M
ACTION:DISPLAY
END:VALARM
END:VEVENT
END:VCALENDAR