BEGIN:VCALENDAR
VERSION:2.0
PRODID:GlueUp
CALSCALE:GREGORIAN
BEGIN:VTIMEZONE
TZID:UTC
BEGIN:STANDARD
DTSTART:19700101T000000
TZOFFSETFROM:+0000
TZOFFSETTO:+0000
TZNAME:UTC
END:STANDARD
END:VTIMEZONE
BEGIN:VEVENT
TZ:+00
ORGANIZER;CN=Jennifer Xu:MAILTO:jxu@amchamchina.org
UID:44035-1776661231@https://amcham.glueup.cn
DTSTAMP:20260420T050031Z
DTSTART:20240918T100000Z
DTEND:20240918T123000Z
SUMMARY:[Chengdu, EN] 2024 Fall Education Mixer: Technology in Education
DESCRIPTION:[Chengdu, EN] 2024 Fall Education Mixer: Technology in Education by AmCham China\n\nSep 18, 2024 (6:00 PM - 8:30 PM)(GMT+8)\n\nFor more information, click here: https://amcham.glueup.cn/my/events/44035
LOCATION:Sky Loft, Ritz-Carlton Chengdu 成都富力丽思卡尔顿酒店 天廊 - 27/F - Ritz-Carlton Chengdu - NO. 269 - Shuncheng Road - Qingyang District - Chengdu - 成都市青羊区顺城大街269号成都富力丽思卡尔顿酒店27层 Chengdu - Sichuan - China
BEGIN:VALARM
TRIGGER:-PT48H
REPEAT:4
DURATION:PT30M
ACTION:DISPLAY
END:VALARM
END:VEVENT
END:VCALENDAR