BEGIN:VCALENDAR
VERSION:2.0
PRODID:GlueUp
CALSCALE:GREGORIAN
BEGIN:VTIMEZONE
TZID:UTC
BEGIN:STANDARD
DTSTART:19700101T000000
TZOFFSETFROM:+0000
TZOFFSETTO:+0000
TZNAME:UTC
END:STANDARD
END:VTIMEZONE
BEGIN:VEVENT
TZ:+00
ORGANIZER;CN=Wei Wei:MAILTO:wwei@amchamchina.org
UID:43115-1776709242@https://amcham.glueup.cn
DTSTAMP:20260420T182042Z
DTSTART:20240317T013000Z
DTEND:20240317T040000Z
SUMMARY:Chengdu | CSR Event: Green Sports Day & 5K Run
DESCRIPTION:Chengdu | CSR Event: Green Sports Day & 5K Run by AmCham China\n\nMar 17, 2024 (9:30 AM - 12:00 PM)(GMT+8)\n\nFor more information, click here: https://amcham.glueup.cn/my/events/43115
LOCATION:Chengdu International School 成都爱思瑟外籍人员子女学校 - 60 Shuinianhe South Rd - Jinjiang District - Chengdu - 成都市锦江区水碾河南路60号 Chengdu - Sichuan - China
BEGIN:VALARM
TRIGGER:-PT48H
REPEAT:4
DURATION:PT30M
ACTION:DISPLAY
END:VALARM
END:VEVENT
END:VCALENDAR