BEGIN:VCALENDAR
VERSION:2.0
PRODID:GlueUp
CALSCALE:GREGORIAN
BEGIN:VTIMEZONE
TZID:UTC
BEGIN:STANDARD
DTSTART:19700101T000000
TZOFFSETFROM:+0000
TZOFFSETTO:+0000
TZNAME:UTC
END:STANDARD
END:VTIMEZONE
BEGIN:VEVENT
TZ:+00
ORGANIZER;CN=Lucinda Liu:MAILTO:lliu@amchamchina.org
UID:45158-1776661306@https://amcham.glueup.cn
DTSTAMP:20260420T050146Z
DTSTART:20240926T010000Z
DTEND:20240926T040000Z
SUMMARY:[Chengdu, CN & EN] US-China Green Energy Transition and Cooperation Workshop
DESCRIPTION:[Chengdu, CN & EN] US-China Green Energy Transition and Cooperation Workshop by AmCham China\n\nSep 26, 2024 (9:00 AM - 12:00 PM)(GMT+8)\n\nFor more information, click here: https://amcham.glueup.cn/my/events/45158
LOCATION:Chengdu - No. 2 Dikangdadao - Pidu district - Chengdu - Sichuan Province Chengdu - Sichuan - China
BEGIN:VALARM
TRIGGER:-PT48H
REPEAT:4
DURATION:PT30M
ACTION:DISPLAY
END:VALARM
END:VEVENT
END:VCALENDAR