BEGIN:VCALENDAR
VERSION:2.0
PRODID:GlueUp
CALSCALE:GREGORIAN
BEGIN:VTIMEZONE
TZID:UTC
BEGIN:STANDARD
DTSTART:19700101T000000
TZOFFSETFROM:+0000
TZOFFSETTO:+0000
TZNAME:UTC
END:STANDARD
END:VTIMEZONE
BEGIN:VEVENT
TZ:+00
ORGANIZER;CN=Wei Wei:MAILTO:wwei@amchamchina.org
UID:45845-1776640075@https://amcham.glueup.cn
DTSTAMP:20260419T230755Z
DTSTART:20241213T074000Z
DTEND:20241213T100000Z
SUMMARY:[Chengdu, CN] Global Gateways: Navigating the Path to US Education
DESCRIPTION:[Chengdu, CN] Global Gateways: Navigating the Path to US Education by AmCham China\n\nDec 13, 2024 (3:40 PM - 6:00 PM)(GMT+8)\n\nFor more information, click here: https://amcham.glueup.cn/my/events/45845
LOCATION:Origin managed by TEC 原空间 - 45/F - No. 6 - East Renmin Road - SAC - Jinjiang District - Chengdu - 成都市锦江区人民东路6号SAC东原中心45层 Chengdu - Sichuan - China
BEGIN:VALARM
TRIGGER:-PT48H
REPEAT:4
DURATION:PT30M
ACTION:DISPLAY
END:VALARM
END:VEVENT
END:VCALENDAR