BEGIN:VCALENDAR
VERSION:2.0
PRODID:GlueUp
CALSCALE:GREGORIAN
BEGIN:VTIMEZONE
TZID:UTC
BEGIN:STANDARD
DTSTART:19700101T000000
TZOFFSETFROM:+0000
TZOFFSETTO:+0000
TZNAME:UTC
END:STANDARD
END:VTIMEZONE
BEGIN:VEVENT
TZ:+00
ORGANIZER;CN=Lucinda Liu:MAILTO:lliu@amchamchina.org
UID:43265-1776696246@https://amcham.glueup.cn
DTSTAMP:20260420T144406Z
DTSTART:20240417T010000Z
DTEND:20240419T090000Z
SUMMARY:[Chengdu, CN] Forum on Energy Transition and Innovation
DESCRIPTION:AmCham China发布活动[Chengdu, CN] Forum on Energy Transition and Innovation\n\n四月 17 - 19，2024(GMT+8)\n\n更多信息，访问https://amcham.glueup.cn/my/events/43265
LOCATION: - 中国
BEGIN:VALARM
TRIGGER:-PT48H
REPEAT:4
DURATION:PT30M
ACTION:DISPLAY
END:VALARM
END:VEVENT
END:VCALENDAR