BEGIN:VCALENDAR
VERSION:2.0
PRODID:GlueUp
CALSCALE:GREGORIAN
BEGIN:VTIMEZONE
TZID:UTC
BEGIN:STANDARD
DTSTART:19700101T000000
TZOFFSETFROM:+0000
TZOFFSETTO:+0000
TZNAME:UTC
END:STANDARD
END:VTIMEZONE
BEGIN:VEVENT
TZ:+00
ORGANIZER;CN=Wei Wei:MAILTO:wwei@amchamchina.org
UID:46025-1776633051@https://amcham.glueup.cn
DTSTAMP:20260419T211051Z
DTSTART:20250111T022000Z
DTEND:20250111T040000Z
SUMMARY:[Chengdu, CN&EN] Today at Apple: Photography and Video on iPhone Workshop
DESCRIPTION:[Chengdu, CN&EN] Today at Apple: Photography and Video on iPhone Workshop by AmCham China\n\nJan 11, 2025 (10:20 AM - 12:00 PM)(GMT+8)\n\nFor more information, click here: https://amcham.glueup.cn/my/events/46025
LOCATION:Apple MIXC Chengdu (Apple 成都万象城) - Hall A - the MIXC - No. 8 - Shuangqing Road - Chenghua District - Chengdu - 成都市成华区双庆路8号万象城A馆 Chengdu - Sichuan - China
BEGIN:VALARM
TRIGGER:-PT48H
REPEAT:4
DURATION:PT30M
ACTION:DISPLAY
END:VALARM
END:VEVENT
END:VCALENDAR