BEGIN:VCALENDAR
VERSION:2.0
PRODID:GlueUp
CALSCALE:GREGORIAN
BEGIN:VTIMEZONE
TZID:UTC
BEGIN:STANDARD
DTSTART:19700101T000000
TZOFFSETFROM:+0000
TZOFFSETTO:+0000
TZNAME:UTC
END:STANDARD
END:VTIMEZONE
BEGIN:VEVENT
TZ:+00
ORGANIZER;CN=Wei Wei:MAILTO:wwei@amchamchina.org
UID:44745-1776667216@https://amcham.glueup.cn
DTSTAMP:20260420T064016Z
DTSTART:20240830T073000Z
DTEND:20240830T100000Z
SUMMARY:[Chengdu] 2024 New Members Welcome Mixer
DESCRIPTION:[Chengdu] 2024 New Members Welcome Mixer by AmCham China\n\nAug 30, 2024 (3:30 PM - 6:00 PM)(GMT+8)\n\nFor more information, click here: https://amcham.glueup.cn/my/events/44745
LOCATION:ICC Club managed by TEC - 5/F - Tower 1 - Chengdu ICC - NO. 577 Dongda Rd - Jinjiang District - Chengdu - 成都市锦江区东大路577号，成都环贸广场一号写字楼5楼 Chengdu - Sichuan - China
BEGIN:VALARM
TRIGGER:-PT48H
REPEAT:4
DURATION:PT30M
ACTION:DISPLAY
END:VALARM
END:VEVENT
END:VCALENDAR