BEGIN:VCALENDAR
VERSION:2.0
PRODID:GlueUp
CALSCALE:GREGORIAN
BEGIN:VTIMEZONE
TZID:UTC
BEGIN:STANDARD
DTSTART:19700101T000000
TZOFFSETFROM:+0000
TZOFFSETTO:+0000
TZNAME:UTC
END:STANDARD
END:VTIMEZONE
BEGIN:VEVENT
TZ:+00
ORGANIZER;CN=Wei Wei:MAILTO:wwei@amchamchina.org
UID:45578-1776647610@https://amcham.glueup.cn
DTSTAMP:20260420T011330Z
DTSTART:20241115T103000Z
DTEND:20241115T123000Z
SUMMARY:[Chengdu] 2024 AmCham China Southwest Chapter Annual General Meeting
DESCRIPTION:[Chengdu] 2024 AmCham China Southwest Chapter Annual General Meeting by AmCham China\n\nNov 15, 2024 (6:30 PM - 8:30 PM)(GMT+8)\n\nFor more information, click here: https://amcham.glueup.cn/my/events/45578
LOCATION:2/F, Astor Ballroom B, The St. Regis Chengdu 成都瑞吉酒店 二楼阿斯特厅 - No. 88 - Taisheng South Road - Qingyang District - Chengdu - 成都市青羊区太升南路88号 Chengdu - Sichuan - China
BEGIN:VALARM
TRIGGER:-PT48H
REPEAT:4
DURATION:PT30M
ACTION:DISPLAY
END:VALARM
END:VEVENT
END:VCALENDAR