BEGIN:VCALENDAR
VERSION:2.0
PRODID:GlueUp
CALSCALE:GREGORIAN
BEGIN:VTIMEZONE
TZID:UTC
BEGIN:STANDARD
DTSTART:19700101T000000
TZOFFSETFROM:+0000
TZOFFSETTO:+0000
TZNAME:UTC
END:STANDARD
END:VTIMEZONE
BEGIN:VEVENT
TZ:+00
ORGANIZER;CN=Anqi NI:MAILTO:ani@amchamchina.org
UID:50224-1776688997@https://amcham.glueup.cn
DTSTAMP:20260420T124317Z
DTSTART:20260427T070000Z
DTEND:20260427T093000Z
SUMMARY:Chairmans' Circle Exclusive: Unpacking the Iran Conflict Implications
DESCRIPTION:Chairmans' Circle Exclusive: Unpacking the Iran Conflict Implications by AmCham China\n\nApr 27, 2026 (3:00 PM - 5:30 PM)(GMT+8)\n\nFor more information, click here: https://amcham.glueup.cn/my/events/50224
LOCATION:Hilton Beijing - 1 Dong Fang Rd - North Dongsanhuan Rd - Beijing | 北京市朝阳区东三环北路东方路1号 Beijing - China
BEGIN:VALARM
TRIGGER:-PT48H
REPEAT:4
DURATION:PT30M
ACTION:DISPLAY
END:VALARM
END:VEVENT
END:VCALENDAR