BEGIN:VCALENDAR
VERSION:2.0
PRODID:GlueUp
CALSCALE:GREGORIAN
BEGIN:VTIMEZONE
TZID:UTC
BEGIN:STANDARD
DTSTART:19700101T000000
TZOFFSETFROM:+0000
TZOFFSETTO:+0000
TZNAME:UTC
END:STANDARD
END:VTIMEZONE
BEGIN:VEVENT
TZ:+00
ORGANIZER;CN=Christine Chen:MAILTO:christine.chen@amchamchina.org
UID:42162-1776721805@https://amcham.glueup.cn
DTSTAMP:20260420T215005Z
DTSTART:20231215T010000Z
DTEND:20231215T080000Z
SUMMARY:[Cancelled] 线上财务培训(中文)：战略思维下的财务分析与价值创造
DESCRIPTION:[Cancelled] 线上财务培训(中文)：战略思维下的财务分析与价值创造 by AmCham China\n\nDec 15, 2023 (9:00 AM - 4:00 PM)(GMT+8)\n\nFor more information, click here: https://amcham.glueup.cn/my/events/42162
LOCATION:Online Event
BEGIN:VALARM
TRIGGER:-PT48H
REPEAT:4
DURATION:PT30M
ACTION:DISPLAY
END:VALARM
END:VEVENT
END:VCALENDAR