BEGIN:VCALENDAR
VERSION:2.0
PRODID:GlueUp
CALSCALE:GREGORIAN
BEGIN:VTIMEZONE
TZID:UTC
BEGIN:STANDARD
DTSTART:19700101T000000
TZOFFSETFROM:+0000
TZOFFSETTO:+0000
TZNAME:UTC
END:STANDARD
END:VTIMEZONE
BEGIN:VEVENT
TZ:+00
ORGANIZER;CN=Melody Wen:MAILTO:mwen@amchamchina.org
UID:45432-1776647403@https://amcham.glueup.cn
DTSTAMP:20260420T011003Z
DTSTART:20241122T010000Z
DTEND:20241122T080000Z
SUMMARY:[Cancelled] [Online, CN] Logical and Convincing Report on Work
DESCRIPTION:[Cancelled] [Online, CN] Logical and Convincing Report on Work by AmCham China\n\nNov 22, 2024 (9:00 AM - 4:00 PM)(GMT+8)\n\nFor more information, click here: https://amcham.glueup.cn/my/events/45432
LOCATION:Online Training 在线培训 - China
BEGIN:VALARM
TRIGGER:-PT48H
REPEAT:4
DURATION:PT30M
ACTION:DISPLAY
END:VALARM
END:VEVENT
END:VCALENDAR