BEGIN:VCALENDAR
VERSION:2.0
PRODID:GlueUp
CALSCALE:GREGORIAN
BEGIN:VTIMEZONE
TZID:UTC
BEGIN:STANDARD
DTSTART:19700101T000000
TZOFFSETFROM:+0000
TZOFFSETTO:+0000
TZNAME:UTC
END:STANDARD
END:VTIMEZONE
BEGIN:VEVENT
TZ:+00
ORGANIZER;CN=Melody Li:MAILTO:mli@amchamchina.org
UID:44703-1776667392@https://amcham.glueup.cn
DTSTAMP:20260420T064312Z
DTSTART:20240822T104500Z
DTEND:20240822T123000Z
SUMMARY:[Cancelled, Dalian, EN/CN] Sip & Savor: Summer White Wine Tasting
DESCRIPTION:[Cancelled, Dalian, EN/CN] Sip & Savor: Summer White Wine Tasting by AmCham China\n\nAug 22, 2024 (6:45 PM - 8:30 PM)(GMT+8)\n\nFor more information, click here: https://amcham.glueup.cn/my/events/44703
LOCATION:Living for Wine Bar - No. 34 Anmin Street - Zhongshan District - Dalian Dalian - Liaoning - China
BEGIN:VALARM
TRIGGER:-PT48H
REPEAT:4
DURATION:PT30M
ACTION:DISPLAY
END:VALARM
END:VEVENT
END:VCALENDAR