BEGIN:VCALENDAR
VERSION:2.0
PRODID:GlueUp
CALSCALE:GREGORIAN
BEGIN:VTIMEZONE
TZID:UTC
BEGIN:STANDARD
DTSTART:19700101T000000
TZOFFSETFROM:+0000
TZOFFSETTO:+0000
TZNAME:UTC
END:STANDARD
END:VTIMEZONE
BEGIN:VEVENT
TZ:+00
ORGANIZER;CN=Lola Wei:MAILTO:lwei@amchamchina.org
UID:46398-1776606004@https://amcham.glueup.cn
DTSTAMP:20260419T134004Z
DTSTART:20250509T010000Z
DTEND:20250510T080000Z
SUMMARY:CANCELED[Beijing, CN] Become an Empowerment Master — Motivation and Coaching Skills
DESCRIPTION:CANCELED[Beijing, CN] Become an Empowerment Master — Motivation and Coaching Skills by AmCham China\n\nMay 9 & 10, 2025(GMT+8)\n\nFor more information, click here: https://amcham.glueup.cn/my/events/46398
LOCATION:北京招商局大厦 - 北京市朝阳区建国路118号 Beijing - China
BEGIN:VALARM
TRIGGER:-PT48H
REPEAT:4
DURATION:PT30M
ACTION:DISPLAY
END:VALARM
END:VEVENT
END:VCALENDAR