BEGIN:VCALENDAR
VERSION:2.0
PRODID:GlueUp
CALSCALE:GREGORIAN
BEGIN:VTIMEZONE
TZID:UTC
BEGIN:STANDARD
DTSTART:19700101T000000
TZOFFSETFROM:+0000
TZOFFSETTO:+0000
TZNAME:UTC
END:STANDARD
END:VTIMEZONE
BEGIN:VEVENT
TZ:+00
ORGANIZER;CN=Ada Yang:MAILTO:ayang@amchamchina.org
UID:46558-1776619331@https://amcham.glueup.cn
DTSTAMP:20260419T172211Z
DTSTART:20250327T060000Z
DTEND:20250327T080000Z
SUMMARY:[Beijing] March Momentum: Pickleball!
DESCRIPTION:[Beijing] March Momentum: Pickleball! by 中国美国商会\n\nMar 27, 2025 (14:00 - 16:00)(GMT+8)\n\nFor more information, click here: https://amcham.glueup.cn/my/events/46558
LOCATION:JW Marriott Beijing - 朝阳区华贸中心建国路83号(华贸中心广场内) Beijing
BEGIN:VALARM
TRIGGER:-PT48H
REPEAT:4
DURATION:PT30M
ACTION:DISPLAY
END:VALARM
END:VEVENT
END:VCALENDAR