BEGIN:VCALENDAR
VERSION:2.0
PRODID:GlueUp
CALSCALE:GREGORIAN
BEGIN:VTIMEZONE
TZID:UTC
BEGIN:STANDARD
DTSTART:19700101T000000
TZOFFSETFROM:+0000
TZOFFSETTO:+0000
TZNAME:UTC
END:STANDARD
END:VTIMEZONE
BEGIN:VEVENT
TZ:+00
ORGANIZER;CN=Ada Yang:MAILTO:ayang@amchamchina.org
UID:45593-1776648429@https://amcham.glueup.cn
DTSTAMP:20260420T012709Z
DTSTART:20241108T070000Z
DTEND:20241108T083000Z
SUMMARY:[Beijing, Hybrid, EN] New Type of Anti-Unfair Competition Cases (M2M Event)
DESCRIPTION:[Beijing, Hybrid, EN] New Type of Anti-Unfair Competition Cases (M2M Event) by AmCham China\n\nNov 8, 2024 (3:00 PM - 4:30 PM)(GMT+8)\n\nFor more information, click here: https://amcham.glueup.cn/my/events/45593
LOCATION:AmCham China Washington Room - 3F - East Gate 1 - Pacific Century Place - 2A Workers' Stadium North Road - 北京市朝阳区工体北路甲2号盈科中心东一门3层。 Beijing - Chaoyang District - China
BEGIN:VALARM
TRIGGER:-PT48H
REPEAT:4
DURATION:PT30M
ACTION:DISPLAY
END:VALARM
END:VEVENT
END:VCALENDAR