BEGIN:VCALENDAR
VERSION:2.0
PRODID:GlueUp
CALSCALE:GREGORIAN
BEGIN:VTIMEZONE
TZID:UTC
BEGIN:STANDARD
DTSTART:19700101T000000
TZOFFSETFROM:+0000
TZOFFSETTO:+0000
TZNAME:UTC
END:STANDARD
END:VTIMEZONE
BEGIN:VEVENT
TZ:+00
ORGANIZER;CN=Yin Yu:MAILTO:yyu@amchamchina.org
UID:47262-1776606006@https://amcham.glueup.cn
DTSTAMP:20260419T134006Z
DTSTART:20250521T040000Z
DTEND:20250521T093000Z
SUMMARY:[Beijing, EN] Supply Chain Navigator Program - Mars Global Food Safety Center Visit
DESCRIPTION:[Beijing, EN] Supply Chain Navigator Program - Mars Global Food Safety Center Visit by AmCham China\n\nMay 21, 2025 (12:00 PM - 5:30 PM)(GMT+8)\n\nFor more information, click here: https://amcham.glueup.cn/my/events/47262
LOCATION: - Beijing
BEGIN:VALARM
TRIGGER:-PT48H
REPEAT:4
DURATION:PT30M
ACTION:DISPLAY
END:VALARM
END:VEVENT
END:VCALENDAR