BEGIN:VCALENDAR
VERSION:2.0
PRODID:GlueUp
CALSCALE:GREGORIAN
BEGIN:VTIMEZONE
TZID:UTC
BEGIN:STANDARD
DTSTART:19700101T000000
TZOFFSETFROM:+0000
TZOFFSETTO:+0000
TZNAME:UTC
END:STANDARD
END:VTIMEZONE
BEGIN:VEVENT
TZ:+00
ORGANIZER;CN=Ada Yang:MAILTO:ayang@amchamchina.org
UID:46165-1776626577@https://amcham.glueup.cn
DTSTAMP:20260419T192257Z
DTSTART:20250209T230000Z
DTEND:20250210T030000Z
SUMMARY:[Beijing, EN] Super Bowl 2025 Watch Party @ Eudora Station
DESCRIPTION:[Beijing, EN] Super Bowl 2025 Watch Party @ Eudora Station by AmCham China\n\nFeb 10, 2025 (7:00 AM - 11:00 AM)(GMT+8)\n\nFor more information, click here: https://amcham.glueup.cn/my/events/46165
LOCATION:Eudora Station - Eudora Station - 6# Fang Yuan West Rd. ChaoYang District Beijing - China
BEGIN:VALARM
TRIGGER:-PT48H
REPEAT:4
DURATION:PT30M
ACTION:DISPLAY
END:VALARM
END:VEVENT
END:VCALENDAR