BEGIN:VCALENDAR
VERSION:2.0
PRODID:GlueUp
CALSCALE:GREGORIAN
BEGIN:VTIMEZONE
TZID:UTC
BEGIN:STANDARD
DTSTART:19700101T000000
TZOFFSETFROM:+0000
TZOFFSETTO:+0000
TZNAME:UTC
END:STANDARD
END:VTIMEZONE
BEGIN:VEVENT
TZ:+00
ORGANIZER;CN=Elliott Johnson:MAILTO:ejohnson@amchamchina.org
UID:45408-1776654729@https://amcham.glueup.cn
DTSTAMP:20260420T031209Z
DTSTART:20241112T034500Z
DTEND:20241112T060000Z
SUMMARY:[Beijing, EN] Post-US Election Special with Scott Kennedy
DESCRIPTION:[Beijing, EN] Post-US Election Special with Scott Kennedy by AmCham China\n\nNov 12, 2024 (11:45 AM - 2:00 PM)(GMT+8)\n\nFor more information, click here: https://amcham.glueup.cn/my/events/45408
LOCATION:Hilton Beijing - 1 Dong Fang Rd - North Dongsanhuan Rd Beijing - China
BEGIN:VALARM
TRIGGER:-PT48H
REPEAT:4
DURATION:PT30M
ACTION:DISPLAY
END:VALARM
END:VEVENT
END:VCALENDAR