BEGIN:VCALENDAR
VERSION:2.0
PRODID:GlueUp
CALSCALE:GREGORIAN
BEGIN:VTIMEZONE
TZID:UTC
BEGIN:STANDARD
DTSTART:19700101T000000
TZOFFSETFROM:+0000
TZOFFSETTO:+0000
TZNAME:UTC
END:STANDARD
END:VTIMEZONE
BEGIN:VEVENT
TZ:+00
ORGANIZER;CN=Dandan Li:MAILTO:dli@amchamchina.org
UID:47184-1776605910@https://amcham.glueup.cn
DTSTAMP:20260419T133830Z
DTSTART:20250514T073000Z
DTEND:20250514T093000Z
SUMMARY:[Beijing, EN] Get Ready to Study in the US
DESCRIPTION:[Beijing, EN] Get Ready to Study in the US by AmCham China\n\nMay 14, 2025 (3:30 PM - 5:30 PM)(GMT+8)\n\nFor more information, click here: https://amcham.glueup.cn/my/events/47184
LOCATION:5F, Wework 5C, Gate 5, Pacific Century Place, 2A Workers' Stadium North Road, Chaoyang District (盈科中心C座5号门5层5C) - Beijing - Chaoyang District - China
BEGIN:VALARM
TRIGGER:-PT48H
REPEAT:4
DURATION:PT30M
ACTION:DISPLAY
END:VALARM
END:VEVENT
END:VCALENDAR