BEGIN:VCALENDAR
VERSION:2.0
PRODID:GlueUp
CALSCALE:GREGORIAN
BEGIN:VTIMEZONE
TZID:UTC
BEGIN:STANDARD
DTSTART:19700101T000000
TZOFFSETFROM:+0000
TZOFFSETTO:+0000
TZNAME:UTC
END:STANDARD
END:VTIMEZONE
BEGIN:VEVENT
TZ:+00
ORGANIZER;CN=Scott Fu:MAILTO:sfu@amchamchina.org
UID:47476-1776605959@https://amcham.glueup.cn
DTSTAMP:20260419T133919Z
DTSTART:20250612T023000Z
DTEND:20250612T033000Z
SUMMARY:[Beijing, EN] Dialogue with Jim McGregor on US-China relations
DESCRIPTION:[Beijing, EN] Dialogue with Jim McGregor on US-China relations by AmCham China\n\nJun 12, 2025 (10:30 AM - 11:30 AM)(GMT+8)\n\nFor more information, click here: https://amcham.glueup.cn/my/events/47476
LOCATION:AmCham China Washington Room - 3F - East Gate 1 - Pacific Century Place - 2A Workers' Stadium North Road - 北京市朝阳区工体北路甲2号盈科中心东一门3层。 Beijing - Chaoyang District - China
BEGIN:VALARM
TRIGGER:-PT48H
REPEAT:4
DURATION:PT30M
ACTION:DISPLAY
END:VALARM
END:VEVENT
END:VCALENDAR