BEGIN:VCALENDAR
VERSION:2.0
PRODID:GlueUp
CALSCALE:GREGORIAN
BEGIN:VTIMEZONE
TZID:UTC
BEGIN:STANDARD
DTSTART:19700101T000000
TZOFFSETFROM:+0000
TZOFFSETTO:+0000
TZNAME:UTC
END:STANDARD
END:VTIMEZONE
BEGIN:VEVENT
TZ:+00
ORGANIZER;CN=Yin Yu:MAILTO:yyu@amchamchina.org
UID:47213-1776612798@https://amcham.glueup.cn
DTSTAMP:20260419T153318Z
DTSTART:20250516T073000Z
DTEND:20250516T090000Z
SUMMARY:[Beijing, EN&CN] Empowering Her: A Workshop on Crafting Your Professional Image
DESCRIPTION:[Beijing, EN&CN] Empowering Her: A Workshop on Crafting Your Professional Image by AmCham China\n\nMay 16, 2025 (3:30 PM - 5:00 PM)(GMT+8)\n\nFor more information, click here: https://amcham.glueup.cn/my/events/47213
LOCATION:Beijing SKP - 北京SKP 三层L148店铺D3141 - 朝阳区建国路88号 China
BEGIN:VALARM
TRIGGER:-PT48H
REPEAT:4
DURATION:PT30M
ACTION:DISPLAY
END:VALARM
END:VEVENT
END:VCALENDAR