BEGIN:VCALENDAR
VERSION:2.0
PRODID:GlueUp
CALSCALE:GREGORIAN
BEGIN:VTIMEZONE
TZID:UTC
BEGIN:STANDARD
DTSTART:19700101T000000
TZOFFSETFROM:+0000
TZOFFSETTO:+0000
TZNAME:UTC
END:STANDARD
END:VTIMEZONE
BEGIN:VEVENT
TZ:+00
ORGANIZER;CN=Melody Wen:MAILTO:mwen@amchamchina.org
UID:46154-1776626617@https://amcham.glueup.cn
DTSTAMP:20260419T192337Z
DTSTART:20250220T063000Z
DTEND:20250220T083000Z
SUMMARY:[Beijing, EN&CN] 2025 AmCham China Education Committee Kick-Off Meeting
DESCRIPTION:[Beijing, EN&CN] 2025 AmCham China Education Committee Kick-Off Meeting by AmCham China\n\nFeb 20, 2025 (2:30 PM - 4:30 PM)(GMT+8)\n\nFor more information, click here: https://amcham.glueup.cn/my/events/46154
LOCATION:AmCham China Office Washington Room - Beijing - Chaoyang District - China
BEGIN:VALARM
TRIGGER:-PT48H
REPEAT:4
DURATION:PT30M
ACTION:DISPLAY
END:VALARM
END:VEVENT
END:VCALENDAR